BEGIN:VCALENDAR
VERSION:2.0
PRODID:-//https://calenda-formation.labocleo.org
X-WR-CALNAME:Calenda
X-WR-TIMEZONE:Europe/Paris
CALSCALE:GREGORIAN
X-WR-CALDESC:The calendar for arts, humanities and social sciences
METHOD:PUBLISH
BEGIN:VEVENT
DTSTART;VALUE=DATE:20150303
DTEND;VALUE=DATE:20150304
UID:312175-20150303@calenda.revues.org
SUMMARY:Sexuality and religion and the risks of field work
URL:https://calenda-formation.labocleo.org/312175
DESCRIPTION:Si les questions de sexualité et de religion ne constituent respectivement pas une lacune ni dans le champ de la sociologie de la religion ni dans celui de la sociologie de la sexualité\, les questions d’ordre pratique\, éthique et méthodologique qui s… @plus_info https://calenda-formation.labocleo.org/312175
LOCATION:Paris
END:VEVENT
END:VCALENDAR
