BEGIN:VCALENDAR
VERSION:2.0
PRODID:-//https://calenda-formation.labocleo.org
X-WR-CALNAME:Calenda
X-WR-TIMEZONE:Europe/Paris
CALSCALE:GREGORIAN
X-WR-CALDESC:Le calendrier des lettres et sciences humaines et sociales
METHOD:PUBLISH
BEGIN:VEVENT
DTSTART;VALUE=DATE:20150216
DTEND;VALUE=DATE:20150217
UID:312197-20150216@calenda.revues.org
SUMMARY:Entre ruptures et continuités\, prescription et émancipation : les dynamiques de la professionnalisation de la communication
URL:https://calenda-formation.labocleo.org/312197
DESCRIPTION:Les métiers et les formations à l’information et de la communication ont pris une expansion considérable ces dernières années et il semble que la communication soit aujourd’hui une activité incontestée et reconnue\, tant dans les milieux professionnel… Weitere Informationen https://calenda-formation.labocleo.org/312197
LOCATION:Sherbrooke
END:VEVENT
END:VCALENDAR
