BEGIN:VCALENDAR
VERSION:2.0
PRODID:-//https://calenda-formation.labocleo.org
X-WR-CALNAME:Calenda
X-WR-TIMEZONE:Europe/Paris
CALSCALE:GREGORIAN
X-WR-CALDESC:The calendar for arts, humanities and social sciences
METHOD:PUBLISH
BEGIN:VEVENT
DTSTART;VALUE=DATE:20150415
DTEND;VALUE=DATE:20150416
UID:312212-20150415@calenda.revues.org
SUMMARY:Sounds of Utopia
URL:https://calenda-formation.labocleo.org/312212
DESCRIPTION:Utopia is one of those concepts that haunt the history of ideas as well as the history of artistic practices. This persistence conveys both a contemporary malaise and the need\, if not urgency\, for the ideas about difference that are shaped in part by… @plus_info https://calenda-formation.labocleo.org/312212
LOCATION:
END:VEVENT
END:VCALENDAR
