BEGIN:VCALENDAR
VERSION:2.0
PRODID:-//https://calenda-formation.labocleo.org
X-WR-CALNAME:Calenda
X-WR-TIMEZONE:Europe/Paris
CALSCALE:GREGORIAN
X-WR-CALDESC:The calendar for arts, humanities and social sciences
METHOD:PUBLISH
BEGIN:VEVENT
DTSTART;VALUE=DATE:20150130
DTEND;VALUE=DATE:20150131
UID:312590-20150130@calenda.revues.org
SUMMARY:The UNESCO convention for the protection and promotion on the diversity of cultural expressions ten years after its adoption
URL:https://calenda-formation.labocleo.org/312590
DESCRIPTION:Ce colloque permettra de dresser un bilan de la Convention dix ans après son adoption et d'identifier les défis qui devront être pris en compte par les États Parties au cours des prochaines années\, en particulier face aux enjeux actuels et aux référe… @plus_info https://calenda-formation.labocleo.org/312590
LOCATION:Quebec City
END:VEVENT
END:VCALENDAR
