BEGIN:VCALENDAR
VERSION:2.0
PRODID:-//https://calenda-formation.labocleo.org
X-WR-CALNAME:Calenda
X-WR-TIMEZONE:Europe/Paris
CALSCALE:GREGORIAN
X-WR-CALDESC:The calendar for arts, humanities and social sciences
METHOD:PUBLISH
BEGIN:VEVENT
DTSTART;VALUE=DATE:20150205
DTEND;VALUE=DATE:20150206
UID:312987-20150205@calenda.revues.org
SUMMARY:La nation entre histoire et mémoire
URL:https://calenda-formation.labocleo.org/312987
DESCRIPTION:Le colloque s’inscrit dans un programme de recherche sur trois années intitulé « Les nations et l’Europe : deux mémoires en parallèle ». Ce programme développé au sein du labex de Paris Ouest\, Les passés dans le présent\, a pour objectif l’analyse des… @plus_info https://calenda-formation.labocleo.org/312987
LOCATION:Nanterre
END:VEVENT
BEGIN:VEVENT
DTSTART;VALUE=DATE:20150206
DTEND;VALUE=DATE:20150207
UID:312987-20150206@calenda.revues.org
SUMMARY:La nation entre histoire et mémoire
URL:https://calenda-formation.labocleo.org/312987
DESCRIPTION:Le colloque s’inscrit dans un programme de recherche sur trois années intitulé « Les nations et l’Europe : deux mémoires en parallèle ». Ce programme développé au sein du labex de Paris Ouest\, Les passés dans le présent\, a pour objectif l’analyse des… @plus_info https://calenda-formation.labocleo.org/312987
LOCATION:Nanterre
END:VEVENT
END:VCALENDAR
