BEGIN:VCALENDAR
VERSION:2.0
PRODID:-//https://calenda-formation.labocleo.org
X-WR-CALNAME:Calenda
X-WR-TIMEZONE:Europe/Paris
CALSCALE:GREGORIAN
X-WR-CALDESC:Le calendrier des lettres et sciences humaines et sociales
METHOD:PUBLISH
BEGIN:VEVENT
DTSTART;VALUE=DATE:20150228
DTEND;VALUE=DATE:20150301
UID:313357-20150228@calenda.revues.org
SUMMARY:Bucema\, bulletin du Centre d’études médiévales d’Auxerre – Varia
URL:https://calenda-formation.labocleo.org/313357
DESCRIPTION:Le Bucema 19.1 publié en ligne sur la plateforme Revues.org est en préparation. Nous vous invitons à soumettre votre contribution pour ses différentes rubriques en vue de la publication du numéro varia n° 19.1\, à paraître en juin 2015. Le Bucema\, bul… Weitere Informationen https://calenda-formation.labocleo.org/313357
LOCATION:Auxerre
END:VEVENT
END:VCALENDAR
