BEGIN:VCALENDAR
VERSION:2.0
PRODID:-//https://calenda-formation.labocleo.org
X-WR-CALNAME:Calenda
X-WR-TIMEZONE:Europe/Paris
CALSCALE:GREGORIAN
X-WR-CALDESC:Le calendrier des lettres et sciences humaines et sociales
METHOD:PUBLISH
BEGIN:VEVENT
DTSTART;VALUE=DATE:20150220
DTEND;VALUE=DATE:20150221
UID:313492-20150220@calenda.revues.org
SUMMARY:Médiations\, publics et territoires
URL:https://calenda-formation.labocleo.org/313492
DESCRIPTION:Le colloque s’inscrit dans le cadre d’une approche exploratoire des questions de médiation dans leur pluralité en Haïti et ailleurs. Il pourrait apporter une impulsion à la perspective d’actions de formation professionnalisante en médiation en Haïti\,… Weitere Informationen https://calenda-formation.labocleo.org/313492
LOCATION:Port-au-Prince
END:VEVENT
END:VCALENDAR
