BEGIN:VCALENDAR
VERSION:2.0
PRODID:-//https://calenda-formation.labocleo.org
X-WR-CALNAME:Calenda
X-WR-TIMEZONE:Europe/Paris
CALSCALE:GREGORIAN
X-WR-CALDESC:The calendar for arts, humanities and social sciences
METHOD:PUBLISH
BEGIN:VEVENT
DTSTART;VALUE=DATE:20150211
DTEND;VALUE=DATE:20150212
UID:313674-20150211@calenda.revues.org
SUMMARY:Teaching in primary\, secondary and higher education. Revolutions and continuity? 
URL:https://calenda-formation.labocleo.org/313674
DESCRIPTION:La mission de former les enseignants du premier degré\, du second degré et du supérieur incombe aux ESPÉ\, qui entrent dans leur 2ème année d’existence. Mais enseigner à ces différents niveaux relève-t-il du même métier\, de la même identité\, de la même… @plus_info https://calenda-formation.labocleo.org/313674
LOCATION:Paris
END:VEVENT
END:VCALENDAR
