BEGIN:VCALENDAR
VERSION:2.0
PRODID:-//https://calenda-formation.labocleo.org
X-WR-CALNAME:Calenda
X-WR-TIMEZONE:Europe/Paris
CALSCALE:GREGORIAN
X-WR-CALDESC:Le calendrier des lettres et sciences humaines et sociales
METHOD:PUBLISH
BEGIN:VEVENT
DTSTART;VALUE=DATE:20150325
DTEND;VALUE=DATE:20150326
UID:314375-20150325@calenda.revues.org
SUMMARY:L'amateur en cinéma : un autre paradigme ?
URL:https://calenda-formation.labocleo.org/314375
DESCRIPTION:Le colloque qui se tiendra à l'université François Rabelais de Tours\, les 23\, 24 et 25 juin 2015\, souhaite poser les bases théoriques d'une réflexion sur les enjeux actuels du cinéma amateur\, en montrant comment ces pratiques proposent un autre parad… Weitere Informationen https://calenda-formation.labocleo.org/314375
LOCATION:Tours
END:VEVENT
END:VCALENDAR
