BEGIN:VCALENDAR
VERSION:2.0
PRODID:-//https://calenda-formation.labocleo.org
X-WR-CALNAME:Calenda
X-WR-TIMEZONE:Europe/Paris
CALSCALE:GREGORIAN
X-WR-CALDESC:O calendário de letras e de ciências sociais e humanas
METHOD:PUBLISH
BEGIN:VEVENT
DTSTART;VALUE=DATE:20150215
DTEND;VALUE=DATE:20150216
UID:314546-20150215@calenda.revues.org
SUMMARY:Grupos Intermédios no Sul da Europa\, séculos XVI-XVIII
URL:https://calenda-formation.labocleo.org/314546
DESCRIPTION:Negociantes\, rendeiros\, juristas\, escrivães de grandes instituições\, secretários\, grandes lavradores de terras próprias\, elites locais\, mestres com dinheiro de diversas corporações de ofícios são pessoas com um estatuto social ambíguo. Olhar para que… @plus_info https://calenda-formation.labocleo.org/314546
LOCATION:Roma
END:VEVENT
END:VCALENDAR
