BEGIN:VCALENDAR
VERSION:2.0
PRODID:-//https://calenda-formation.labocleo.org
X-WR-CALNAME:Calenda
X-WR-TIMEZONE:Europe/Paris
CALSCALE:GREGORIAN
X-WR-CALDESC:Le calendrier des lettres et sciences humaines et sociales
METHOD:PUBLISH
BEGIN:VEVENT
DTSTART;VALUE=DATE:20150128
DTEND;VALUE=DATE:20150129
UID:314556-20150128@calenda.revues.org
SUMMARY:Séminaires fédératifs de l'École supérieure du professorat et de l'éducation (ESPE) de l'Académie de Caen 
URL:https://calenda-formation.labocleo.org/314556
DESCRIPTION:La formation contemporaine aux métiers de l'enseignement\, de l'éducation et de la formation accorde une place centrale aux pratiques\, aux démarches et aux postures de recherche. Les conférences sont centrées sur des champs\, des objets et des probléma… @plus_info https://calenda-formation.labocleo.org/314556
LOCATION:Caen\, Damigny\, Saint-Lô
END:VEVENT
END:VCALENDAR
