BEGIN:VCALENDAR
VERSION:2.0
PRODID:-//https://calenda-formation.labocleo.org
X-WR-CALNAME:Calenda
X-WR-TIMEZONE:Europe/Paris
CALSCALE:GREGORIAN
X-WR-CALDESC:O calendário de letras e de ciências sociais e humanas
METHOD:PUBLISH
BEGIN:VEVENT
DTSTART;VALUE=DATE:20150215
DTEND;VALUE=DATE:20150216
UID:314909-20150215@calenda.revues.org
SUMMARY:Le siècle de la légèreté : émergences d’un paradigme du XVIIIe siècle français
URL:https://calenda-formation.labocleo.org/314909
DESCRIPTION:Au dix-huitième siècle\, le concept de légèreté semble envahir tous les domaines des connaissances humaines\, de la morale à la physique\, des inventions aérostatiques aux créations artistiques. Perpétuant cette image d’un âge léger\, depuis le dix-neuvi… @plus_info https://calenda-formation.labocleo.org/314909
LOCATION:Oxford
END:VEVENT
END:VCALENDAR
