BEGIN:VCALENDAR
VERSION:2.0
PRODID:-//https://calenda-formation.labocleo.org
X-WR-CALNAME:Calenda
X-WR-TIMEZONE:Europe/Paris
CALSCALE:GREGORIAN
X-WR-CALDESC:Le calendrier des lettres et sciences humaines et sociales
METHOD:PUBLISH
BEGIN:VEVENT
DTSTART;VALUE=DATE:20150316
DTEND;VALUE=DATE:20150317
UID:315423-20150316@calenda.revues.org
SUMMARY:L’interdisciplinarité́ dans les études du politique : oser les ponts\, sortir des impasses
URL:https://calenda-formation.labocleo.org/315423
DESCRIPTION:Ce colloque se veut une occasion d’échanges et de réflexions sur l’interdisciplinarité appliquée aux études du politique entendu comme le pouvoir de la société sur elle-même. Face aux limites de l’état de fractionnement disciplinaire présent qui appa… Weitere Informationen https://calenda-formation.labocleo.org/315423
LOCATION:Créteil
END:VEVENT
END:VCALENDAR
