BEGIN:VCALENDAR
VERSION:2.0
PRODID:-//https://calenda-formation.labocleo.org
X-WR-CALNAME:Calenda
X-WR-TIMEZONE:Europe/Paris
CALSCALE:GREGORIAN
X-WR-CALDESC:Le calendrier des lettres et sciences humaines et sociales
METHOD:PUBLISH
BEGIN:VEVENT
DTSTART;VALUE=DATE:20150228
DTEND;VALUE=DATE:20150301
UID:315992-20150228@calenda.revues.org
SUMMARY:Les missions allemandes : leur liquidation et leur résilience 1914-1939
URL:https://calenda-formation.labocleo.org/315992
DESCRIPTION:Ce 36e colloque du CREDIC s'inscrit dans le cycle des commémorations de la « Grande Guerre ». Quel a été son impact sur les missions chrétiennes allemandes\, catholiques et protestantes\, et sur les Églises et les œuvres locales suscitées par leur acti… Más informaciones https://calenda-formation.labocleo.org/315992
LOCATION:Neuendettelsau
END:VEVENT
END:VCALENDAR
