BEGIN:VCALENDAR
VERSION:2.0
PRODID:-//https://calenda-formation.labocleo.org
X-WR-CALNAME:Calenda
X-WR-TIMEZONE:Europe/Paris
CALSCALE:GREGORIAN
X-WR-CALDESC:O calendário de letras e de ciências sociais e humanas
METHOD:PUBLISH
BEGIN:VEVENT
DTSTART;VALUE=DATE:20150313
DTEND;VALUE=DATE:20150314
UID:316679-20150313@calenda.revues.org
SUMMARY:Sur les sentes de la migration : circulations\, risque et gestion de l’incertitude
URL:https://calenda-formation.labocleo.org/316679
DESCRIPTION:Si la migration a déjà été envisagée sous le rapport du risque\, elle l'a été surtout du point de vue des États et du gouvernement des circulations. L'attelier vise à interroger les manières dont les migrants manipulent l'incertitude profonde qui marq… @plus_info https://calenda-formation.labocleo.org/316679
LOCATION:Lausana
END:VEVENT
END:VCALENDAR
