BEGIN:VCALENDAR
VERSION:2.0
PRODID:-//https://calenda-formation.labocleo.org
X-WR-CALNAME:Calenda
X-WR-TIMEZONE:Europe/Paris
CALSCALE:GREGORIAN
X-WR-CALDESC:Le calendrier des lettres et sciences humaines et sociales
METHOD:PUBLISH
BEGIN:VEVENT
DTSTART;VALUE=DATE:20150128
DTEND;VALUE=DATE:20150129
UID:316693-20150128@calenda.revues.org
SUMMARY:Enfance\, jeunesse\, éducation\, genre et société (XIXe-XXIe siècle)
URL:https://calenda-formation.labocleo.org/316693
DESCRIPTION:L’enseignement du séminaire associe des séances méthodologiques\, des panoramas sur l’histoire des enfants\, des jeunes\, des femmes et du système éducatif (avec une dominante chaque année)\, ainsi que des présentations de chantiers de recherche par des … Weitere Informationen https://calenda-formation.labocleo.org/316693
LOCATION:Paris
END:VEVENT
BEGIN:VEVENT
DTSTART;VALUE=DATE:20150204
DTEND;VALUE=DATE:20150205
UID:316693-20150204@calenda.revues.org
SUMMARY:Enfance\, jeunesse\, éducation\, genre et société (XIXe-XXIe siècle)
URL:https://calenda-formation.labocleo.org/316693
DESCRIPTION:L’enseignement du séminaire associe des séances méthodologiques\, des panoramas sur l’histoire des enfants\, des jeunes\, des femmes et du système éducatif (avec une dominante chaque année)\, ainsi que des présentations de chantiers de recherche par des … Weitere Informationen https://calenda-formation.labocleo.org/316693
LOCATION:Paris
END:VEVENT
BEGIN:VEVENT
DTSTART;VALUE=DATE:20150211
DTEND;VALUE=DATE:20150212
UID:316693-20150211@calenda.revues.org
SUMMARY:Enfance\, jeunesse\, éducation\, genre et société (XIXe-XXIe siècle)
URL:https://calenda-formation.labocleo.org/316693
DESCRIPTION:L’enseignement du séminaire associe des séances méthodologiques\, des panoramas sur l’histoire des enfants\, des jeunes\, des femmes et du système éducatif (avec une dominante chaque année)\, ainsi que des présentations de chantiers de recherche par des … Weitere Informationen https://calenda-formation.labocleo.org/316693
LOCATION:Paris
END:VEVENT
BEGIN:VEVENT
DTSTART;VALUE=DATE:20150218
DTEND;VALUE=DATE:20150219
UID:316693-20150218@calenda.revues.org
SUMMARY:Enfance\, jeunesse\, éducation\, genre et société (XIXe-XXIe siècle)
URL:https://calenda-formation.labocleo.org/316693
DESCRIPTION:L’enseignement du séminaire associe des séances méthodologiques\, des panoramas sur l’histoire des enfants\, des jeunes\, des femmes et du système éducatif (avec une dominante chaque année)\, ainsi que des présentations de chantiers de recherche par des … Weitere Informationen https://calenda-formation.labocleo.org/316693
LOCATION:Paris
END:VEVENT
BEGIN:VEVENT
DTSTART;VALUE=DATE:20150304
DTEND;VALUE=DATE:20150305
UID:316693-20150304@calenda.revues.org
SUMMARY:Enfance\, jeunesse\, éducation\, genre et société (XIXe-XXIe siècle)
URL:https://calenda-formation.labocleo.org/316693
DESCRIPTION:L’enseignement du séminaire associe des séances méthodologiques\, des panoramas sur l’histoire des enfants\, des jeunes\, des femmes et du système éducatif (avec une dominante chaque année)\, ainsi que des présentations de chantiers de recherche par des … Weitere Informationen https://calenda-formation.labocleo.org/316693
LOCATION:Paris
END:VEVENT
BEGIN:VEVENT
DTSTART;VALUE=DATE:20150311
DTEND;VALUE=DATE:20150312
UID:316693-20150311@calenda.revues.org
SUMMARY:Enfance\, jeunesse\, éducation\, genre et société (XIXe-XXIe siècle)
URL:https://calenda-formation.labocleo.org/316693
DESCRIPTION:L’enseignement du séminaire associe des séances méthodologiques\, des panoramas sur l’histoire des enfants\, des jeunes\, des femmes et du système éducatif (avec une dominante chaque année)\, ainsi que des présentations de chantiers de recherche par des … Weitere Informationen https://calenda-formation.labocleo.org/316693
LOCATION:Paris
END:VEVENT
BEGIN:VEVENT
DTSTART;VALUE=DATE:20150401
DTEND;VALUE=DATE:20150402
UID:316693-20150401@calenda.revues.org
SUMMARY:Enfance\, jeunesse\, éducation\, genre et société (XIXe-XXIe siècle)
URL:https://calenda-formation.labocleo.org/316693
DESCRIPTION:L’enseignement du séminaire associe des séances méthodologiques\, des panoramas sur l’histoire des enfants\, des jeunes\, des femmes et du système éducatif (avec une dominante chaque année)\, ainsi que des présentations de chantiers de recherche par des … Weitere Informationen https://calenda-formation.labocleo.org/316693
LOCATION:Paris
END:VEVENT
BEGIN:VEVENT
DTSTART;VALUE=DATE:20150409
DTEND;VALUE=DATE:20150410
UID:316693-20150409@calenda.revues.org
SUMMARY:Enfance\, jeunesse\, éducation\, genre et société (XIXe-XXIe siècle)
URL:https://calenda-formation.labocleo.org/316693
DESCRIPTION:L’enseignement du séminaire associe des séances méthodologiques\, des panoramas sur l’histoire des enfants\, des jeunes\, des femmes et du système éducatif (avec une dominante chaque année)\, ainsi que des présentations de chantiers de recherche par des … Weitere Informationen https://calenda-formation.labocleo.org/316693
LOCATION:Paris
END:VEVENT
BEGIN:VEVENT
DTSTART;VALUE=DATE:20150415
DTEND;VALUE=DATE:20150416
UID:316693-20150415@calenda.revues.org
SUMMARY:Enfance\, jeunesse\, éducation\, genre et société (XIXe-XXIe siècle)
URL:https://calenda-formation.labocleo.org/316693
DESCRIPTION:L’enseignement du séminaire associe des séances méthodologiques\, des panoramas sur l’histoire des enfants\, des jeunes\, des femmes et du système éducatif (avec une dominante chaque année)\, ainsi que des présentations de chantiers de recherche par des … Weitere Informationen https://calenda-formation.labocleo.org/316693
LOCATION:Paris
END:VEVENT
END:VCALENDAR
