BEGIN:VCALENDAR
VERSION:2.0
PRODID:-//https://calenda-formation.labocleo.org
X-WR-CALNAME:Calenda
X-WR-TIMEZONE:Europe/Paris
CALSCALE:GREGORIAN
X-WR-CALDESC:Le calendrier des lettres et sciences humaines et sociales
METHOD:PUBLISH
BEGIN:VEVENT
DTSTART;VALUE=DATE:20150317
DTEND;VALUE=DATE:20150318
UID:316703-20150317@calenda.revues.org
SUMMARY:Les perceptions du barbare en Grèce\, à Rome et en Chine ancienne
URL:https://calenda-formation.labocleo.org/316703
DESCRIPTION:La conception du Barbare présente des similitudes entre le monde antique classique et la Chine ancienne. Comme les Grecs\, les Chinois ont considéré les peuples situés autour d’eux comme des Barbares et se sont représenté le monde comme étant formé pa… Más informaciones https://calenda-formation.labocleo.org/316703
LOCATION:París
END:VEVENT
BEGIN:VEVENT
DTSTART;VALUE=DATE:20150331
DTEND;VALUE=DATE:20150401
UID:316703-20150331@calenda.revues.org
SUMMARY:Les perceptions du barbare en Grèce\, à Rome et en Chine ancienne
URL:https://calenda-formation.labocleo.org/316703
DESCRIPTION:La conception du Barbare présente des similitudes entre le monde antique classique et la Chine ancienne. Comme les Grecs\, les Chinois ont considéré les peuples situés autour d’eux comme des Barbares et se sont représenté le monde comme étant formé pa… Más informaciones https://calenda-formation.labocleo.org/316703
LOCATION:París
END:VEVENT
BEGIN:VEVENT
DTSTART;VALUE=DATE:20150407
DTEND;VALUE=DATE:20150408
UID:316703-20150407@calenda.revues.org
SUMMARY:Les perceptions du barbare en Grèce\, à Rome et en Chine ancienne
URL:https://calenda-formation.labocleo.org/316703
DESCRIPTION:La conception du Barbare présente des similitudes entre le monde antique classique et la Chine ancienne. Comme les Grecs\, les Chinois ont considéré les peuples situés autour d’eux comme des Barbares et se sont représenté le monde comme étant formé pa… Más informaciones https://calenda-formation.labocleo.org/316703
LOCATION:París
END:VEVENT
BEGIN:VEVENT
DTSTART;VALUE=DATE:20150414
DTEND;VALUE=DATE:20150415
UID:316703-20150414@calenda.revues.org
SUMMARY:Les perceptions du barbare en Grèce\, à Rome et en Chine ancienne
URL:https://calenda-formation.labocleo.org/316703
DESCRIPTION:La conception du Barbare présente des similitudes entre le monde antique classique et la Chine ancienne. Comme les Grecs\, les Chinois ont considéré les peuples situés autour d’eux comme des Barbares et se sont représenté le monde comme étant formé pa… Más informaciones https://calenda-formation.labocleo.org/316703
LOCATION:París
END:VEVENT
END:VCALENDAR
