BEGIN:VCALENDAR
VERSION:2.0
PRODID:-//https://calenda-formation.labocleo.org
X-WR-CALNAME:Calenda
X-WR-TIMEZONE:Europe/Paris
CALSCALE:GREGORIAN
X-WR-CALDESC:Le calendrier des lettres et sciences humaines et sociales
METHOD:PUBLISH
BEGIN:VEVENT
DTSTART;VALUE=DATE:20150501
DTEND;VALUE=DATE:20150502
UID:317180-20150501@calenda.revues.org
SUMMARY:Le musée par la scène
URL:https://calenda-formation.labocleo.org/317180
DESCRIPTION:Ce colloque cherchera à interroger la place\, les pratiques et les finalités du spectacle vivant au musée\, dans leur articulation avec des pratiques de médiation\, et envisagées sous l’angle d’une problématique de la réception. Danse\, théâtre\, musique\,… Más informaciones https://calenda-formation.labocleo.org/317180
LOCATION:París
END:VEVENT
END:VCALENDAR
