BEGIN:VCALENDAR
VERSION:2.0
PRODID:-//https://calenda-formation.labocleo.org
X-WR-CALNAME:Calenda
X-WR-TIMEZONE:Europe/Paris
CALSCALE:GREGORIAN
X-WR-CALDESC:The calendar for arts, humanities and social sciences
METHOD:PUBLISH
BEGIN:VEVENT
DTSTART;VALUE=DATE:20150530
DTEND;VALUE=DATE:20150531
UID:317197-20150530@calenda.revues.org
SUMMARY:Enseignement / apprentissage de la littérature et les études littéraires contemporaines
URL:https://calenda-formation.labocleo.org/317197
DESCRIPTION:Ce colloque vise à créer une dynamique pluridisciplinaire entre les acteurs du système éducatif\, les universitaires\, les sociologues de l’éducation\, les concepteurs des manuels\, les critiques littéraires contemporaines\, à l’effet de traiter des théma… @plus_info https://calenda-formation.labocleo.org/317197
LOCATION:Mostaganem
END:VEVENT
END:VCALENDAR
