BEGIN:VCALENDAR
VERSION:2.0
PRODID:-//https://calenda-formation.labocleo.org
X-WR-CALNAME:Calenda
X-WR-TIMEZONE:Europe/Paris
CALSCALE:GREGORIAN
X-WR-CALDESC:Le calendrier des lettres et sciences humaines et sociales
METHOD:PUBLISH
BEGIN:VEVENT
DTSTART;VALUE=DATE:20150227
DTEND;VALUE=DATE:20150228
UID:317242-20150227@calenda.revues.org
SUMMARY:Les langues de Sade
URL:https://calenda-formation.labocleo.org/317242
DESCRIPTION:Que le libertinage soit un « fait de langage » paraît peu contestable. Sade ne fait pas exception\, mais sa singularité est ailleurs : dans la coexistence de « mille autres langages » avec les langages\, eux-mêmes « polychromes » (Barthes)\, de ses libe… @plus_info https://calenda-formation.labocleo.org/317242
LOCATION:Genève
END:VEVENT
END:VCALENDAR
