BEGIN:VCALENDAR
VERSION:2.0
PRODID:-//https://calenda-formation.labocleo.org
X-WR-CALNAME:Calenda
X-WR-TIMEZONE:Europe/Paris
CALSCALE:GREGORIAN
X-WR-CALDESC:Le calendrier des lettres et sciences humaines et sociales
METHOD:PUBLISH
BEGIN:VEVENT
DTSTART;VALUE=DATE:20150415
DTEND;VALUE=DATE:20150416
UID:317590-20150415@calenda.revues.org
SUMMARY:La scène punk en France (1976-2016)
URL:https://calenda-formation.labocleo.org/317590
DESCRIPTION:Volume ! –  revue de recherche pluridisciplinaire à comité de lecture dédiée à l’analyse des musiques populaires –  lance un nouvel appel à contributions pour un numéro consacré à la scène punk en France (1976-2016). Alors que les travaux existants s… @plus_info https://calenda-formation.labocleo.org/317590
LOCATION:
END:VEVENT
END:VCALENDAR
