BEGIN:VCALENDAR
VERSION:2.0
PRODID:-//https://calenda-formation.labocleo.org
X-WR-CALNAME:Calenda
X-WR-TIMEZONE:Europe/Paris
CALSCALE:GREGORIAN
X-WR-CALDESC:Le calendrier des lettres et sciences humaines et sociales
METHOD:PUBLISH
BEGIN:VEVENT
DTSTART;VALUE=DATE:20150220
DTEND;VALUE=DATE:20150221
UID:317696-20150220@calenda.revues.org
SUMMARY:Christophe Honoré ou l'invention d'une écriture
URL:https://calenda-formation.labocleo.org/317696
DESCRIPTION:Christophe Honoré est l’auteur de plusieurs romans et de plus d’une dizaine de livres pour la jeunesse\, il écrit aussi des scénarios et des pièces de théâtre que pour la plupart il met en scène\, réalisant ainsi une dizaine de long-métrages. Pluridisc… @plus_info https://calenda-formation.labocleo.org/317696
LOCATION:Tours
END:VEVENT
END:VCALENDAR
