BEGIN:VCALENDAR
VERSION:2.0
PRODID:-//https://calenda-formation.labocleo.org
X-WR-CALNAME:Calenda
X-WR-TIMEZONE:Europe/Paris
CALSCALE:GREGORIAN
X-WR-CALDESC:Le calendrier des lettres et sciences humaines et sociales
METHOD:PUBLISH
BEGIN:VEVENT
DTSTART;VALUE=DATE:20150312
DTEND;VALUE=DATE:20150313
UID:317760-20150312@calenda.revues.org
SUMMARY:Genre et Europe (2015)
URL:https://calenda-formation.labocleo.org/317760
DESCRIPTION:  Après un premier cycle de conférences en 2014\, l'axe genre du LabEx « Écrire une histoire nouvelle de l'Europe » a le plaisir d'annoncer la tenue de la première séance de son séminaire « Genre et Europe »  en 2015\, coorganisé avec l'Institut histor… @plus_info https://calenda-formation.labocleo.org/317760
LOCATION:Paris
END:VEVENT
BEGIN:VEVENT
DTSTART;VALUE=DATE:20150416
DTEND;VALUE=DATE:20150417
UID:317760-20150416@calenda.revues.org
SUMMARY:Genre et Europe (2015)
URL:https://calenda-formation.labocleo.org/317760
DESCRIPTION:  Après un premier cycle de conférences en 2014\, l'axe genre du LabEx « Écrire une histoire nouvelle de l'Europe » a le plaisir d'annoncer la tenue de la première séance de son séminaire « Genre et Europe »  en 2015\, coorganisé avec l'Institut histor… @plus_info https://calenda-formation.labocleo.org/317760
LOCATION:Paris
END:VEVENT
BEGIN:VEVENT
DTSTART;VALUE=DATE:20150604
DTEND;VALUE=DATE:20150605
UID:317760-20150604@calenda.revues.org
SUMMARY:Genre et Europe (2015)
URL:https://calenda-formation.labocleo.org/317760
DESCRIPTION:  Après un premier cycle de conférences en 2014\, l'axe genre du LabEx « Écrire une histoire nouvelle de l'Europe » a le plaisir d'annoncer la tenue de la première séance de son séminaire « Genre et Europe »  en 2015\, coorganisé avec l'Institut histor… @plus_info https://calenda-formation.labocleo.org/317760
LOCATION:Paris
END:VEVENT
END:VCALENDAR
