BEGIN:VCALENDAR
VERSION:2.0
PRODID:-//https://calenda-formation.labocleo.org
X-WR-CALNAME:Calenda
X-WR-TIMEZONE:Europe/Paris
CALSCALE:GREGORIAN
X-WR-CALDESC:Le calendrier des lettres et sciences humaines et sociales
METHOD:PUBLISH
BEGIN:VEVENT
DTSTART;VALUE=DATE:20150317
DTEND;VALUE=DATE:20150318
UID:317945-20150317@calenda.revues.org
SUMMARY:La musique et le fantastique
URL:https://calenda-formation.labocleo.org/317945
DESCRIPTION:Après celles consacrées à « La musique et l’eau » et « La musique et la guerre » en 2013 et 2014 au Théâtre des arts de Rouen\, le département de musicologie de l’université de Rouen organise le 17 mars 2015 sa troisième journée d’étude dont le thème … Más informaciones https://calenda-formation.labocleo.org/317945
LOCATION:Ruan
END:VEVENT
END:VCALENDAR
