BEGIN:VCALENDAR
VERSION:2.0
PRODID:-//https://calenda-formation.labocleo.org
X-WR-CALNAME:Calenda
X-WR-TIMEZONE:Europe/Paris
CALSCALE:GREGORIAN
X-WR-CALDESC:Le calendrier des lettres et sciences humaines et sociales
METHOD:PUBLISH
BEGIN:VEVENT
DTSTART;VALUE=DATE:20150222
DTEND;VALUE=DATE:20150223
UID:318205-20150222@calenda.revues.org
SUMMARY:The Why Linguistics Conference
URL:https://calenda-formation.labocleo.org/318205
DESCRIPTION:This conference proposes a constructive take on the question "Why?"\, as in\, why are we doing what we are doing as linguists\, and what is our contribution to knowledge? Or\, equally well\, what is the contribution of a particular domain of linguistics t… Weitere Informationen https://calenda-formation.labocleo.org/318205
LOCATION:Dorpat
END:VEVENT
END:VCALENDAR
