BEGIN:VCALENDAR
VERSION:2.0
PRODID:-//https://calenda-formation.labocleo.org
X-WR-CALNAME:Calenda
X-WR-TIMEZONE:Europe/Paris
CALSCALE:GREGORIAN
X-WR-CALDESC:The calendar for arts, humanities and social sciences
METHOD:PUBLISH
BEGIN:VEVENT
DTSTART;VALUE=DATE:20150313
DTEND;VALUE=DATE:20150314
UID:318355-20150313@calenda.revues.org
SUMMARY:« Folie et déraison » : regards croisés sur l'évolution juridique des soins psychiatriques en France
URL:https://calenda-formation.labocleo.org/318355
DESCRIPTION:La loi du 5 juillet 2011\, modifiée par la loi du 27 septembre 2013\, a réformé en profondeur les modalités de prise en charge des personnes faisant l'objet de soins psychiatriques. Cette loi a remplacé celle du 27 juin 1990 qui s'était elle-même subst… @plus_info https://calenda-formation.labocleo.org/318355
LOCATION:Paris
END:VEVENT
END:VCALENDAR
