BEGIN:VCALENDAR
VERSION:2.0
PRODID:-//https://calenda-formation.labocleo.org
X-WR-CALNAME:Calenda
X-WR-TIMEZONE:Europe/Paris
CALSCALE:GREGORIAN
X-WR-CALDESC:O calendário de letras e de ciências sociais e humanas
METHOD:PUBLISH
BEGIN:VEVENT
DTSTART;VALUE=DATE:20150304
DTEND;VALUE=DATE:20150305
UID:319590-20150304@calenda.revues.org
SUMMARY: Innovations et santé  
URL:https://calenda-formation.labocleo.org/319590
DESCRIPTION:Ce colloque devrait permettre de contribuer à une meilleure connaissance des effets sociaux de l’innovation en santé et plus précisément des processus translationnels dans le domaine biomédical. La persistance de grandes maladies chroniques comme la … @plus_info https://calenda-formation.labocleo.org/319590
LOCATION:Rimouski
END:VEVENT
END:VCALENDAR
