BEGIN:VCALENDAR
VERSION:2.0
PRODID:-//https://calenda-formation.labocleo.org
X-WR-CALNAME:Calenda
X-WR-TIMEZONE:Europe/Paris
CALSCALE:GREGORIAN
X-WR-CALDESC:Le calendrier des lettres et sciences humaines et sociales
METHOD:PUBLISH
BEGIN:VEVENT
DTSTART;VALUE=DATE:20150415
DTEND;VALUE=DATE:20150416
UID:319632-20150415@calenda.revues.org
SUMMARY:Alimentation et cancers
URL:https://calenda-formation.labocleo.org/319632
DESCRIPTION:À travers les liens établis actuellement entre alimentation et cancers\, ce numéro questionne la construction sociale et politique d’une nouvelle question de santé qui se structure notamment au travers d’un champ scientifique en pleine expansion\, de n… Weitere Informationen https://calenda-formation.labocleo.org/319632
LOCATION:
END:VEVENT
END:VCALENDAR
