BEGIN:VCALENDAR
VERSION:2.0
PRODID:-//https://calenda-formation.labocleo.org
X-WR-CALNAME:Calenda
X-WR-TIMEZONE:Europe/Paris
CALSCALE:GREGORIAN
X-WR-CALDESC:The calendar for arts, humanities and social sciences
METHOD:PUBLISH
BEGIN:VEVENT
DTSTART;VALUE=DATE:20150320
DTEND;VALUE=DATE:20150321
UID:319747-20150320@calenda.revues.org
SUMMARY:Identities and contexts
URL:https://calenda-formation.labocleo.org/319747
DESCRIPTION:Le 28 Mai 2015\, les doctorants de l’École doctorale Stanislas organisent une journée internationale jeunes chercheurs à Nancy. Dans une dynamique pluridisciplinaire\, cette journée vise à favoriser la rencontre\, la valorisation et l’échange des travau… @plus_info https://calenda-formation.labocleo.org/319747
LOCATION:
END:VEVENT
END:VCALENDAR
