BEGIN:VCALENDAR
VERSION:2.0
PRODID:-//https://calenda-formation.labocleo.org
X-WR-CALNAME:Calenda
X-WR-TIMEZONE:Europe/Paris
CALSCALE:GREGORIAN
X-WR-CALDESC:Le calendrier des lettres et sciences humaines et sociales
METHOD:PUBLISH
BEGIN:VEVENT
DTSTART;VALUE=DATE:20150327
DTEND;VALUE=DATE:20150328
UID:319836-20150327@calenda.revues.org
SUMMARY:« Disorder » : histoire sociale des mouvements punk / post-punk
URL:https://calenda-formation.labocleo.org/319836
DESCRIPTION:Ce colloque international réunira pendant deux jours les 27 et 28 mars des chercheurs (historiens\, sociologues\, musicologues …) et des acteurs des scènes punk et post-punk à l’université Paris Diderot et au centre parisien de l’université de Chicago … Weitere Informationen https://calenda-formation.labocleo.org/319836
LOCATION:Paris
END:VEVENT
BEGIN:VEVENT
DTSTART;VALUE=DATE:20150328
DTEND;VALUE=DATE:20150329
UID:319836-20150328@calenda.revues.org
SUMMARY:« Disorder » : histoire sociale des mouvements punk / post-punk
URL:https://calenda-formation.labocleo.org/319836
DESCRIPTION:Ce colloque international réunira pendant deux jours les 27 et 28 mars des chercheurs (historiens\, sociologues\, musicologues …) et des acteurs des scènes punk et post-punk à l’université Paris Diderot et au centre parisien de l’université de Chicago … Weitere Informationen https://calenda-formation.labocleo.org/319836
LOCATION:Paris
END:VEVENT
END:VCALENDAR
