BEGIN:VCALENDAR
VERSION:2.0
PRODID:-//https://calenda-formation.labocleo.org
X-WR-CALNAME:Calenda
X-WR-TIMEZONE:Europe/Paris
CALSCALE:GREGORIAN
X-WR-CALDESC:The calendar for arts, humanities and social sciences
METHOD:PUBLISH
BEGIN:VEVENT
DTSTART;VALUE=DATE:20150319
DTEND;VALUE=DATE:20150320
UID:320063-20150319@calenda.revues.org
SUMMARY:Is this the same language? Plurilingualism and migrations in French language literature
URL:https://calenda-formation.labocleo.org/320063
DESCRIPTION:Ce colloque international a pour ambition de formaliser et de théoriser un phénomène qui concerne à la fois la linguistique et la littérature. Il existe un intérêt croissant pour l´écriture plurilingue à travers différents types de textes et de genre… @plus_info https://calenda-formation.labocleo.org/320063
LOCATION:Coimbra
END:VEVENT
BEGIN:VEVENT
DTSTART;VALUE=DATE:20150320
DTEND;VALUE=DATE:20150321
UID:320063-20150320@calenda.revues.org
SUMMARY:Is this the same language? Plurilingualism and migrations in French language literature
URL:https://calenda-formation.labocleo.org/320063
DESCRIPTION:Ce colloque international a pour ambition de formaliser et de théoriser un phénomène qui concerne à la fois la linguistique et la littérature. Il existe un intérêt croissant pour l´écriture plurilingue à travers différents types de textes et de genre… @plus_info https://calenda-formation.labocleo.org/320063
LOCATION:Coimbra
END:VEVENT
END:VCALENDAR
