BEGIN:VCALENDAR
VERSION:2.0
PRODID:-//https://calenda-formation.labocleo.org
X-WR-CALNAME:Calenda
X-WR-TIMEZONE:Europe/Paris
CALSCALE:GREGORIAN
X-WR-CALDESC:The calendar for arts, humanities and social sciences
METHOD:PUBLISH
BEGIN:VEVENT
DTSTART;VALUE=DATE:20150326
DTEND;VALUE=DATE:20150327
UID:320477-20150326@calenda.revues.org
SUMMARY:Experts and expertise in the mandates and of the society of nations
URL:https://calenda-formation.labocleo.org/320477
DESCRIPTION:Our vantage point is to consider the growing in importance of expertise during the twentieth century within the management of the colonial world and hence to study the emergence of the international sphere as a level of decision making. The purpose o… @plus_info https://calenda-formation.labocleo.org/320477
LOCATION:Paris
END:VEVENT
BEGIN:VEVENT
DTSTART;VALUE=DATE:20150327
DTEND;VALUE=DATE:20150328
UID:320477-20150327@calenda.revues.org
SUMMARY:Experts and expertise in the mandates and of the society of nations
URL:https://calenda-formation.labocleo.org/320477
DESCRIPTION:Our vantage point is to consider the growing in importance of expertise during the twentieth century within the management of the colonial world and hence to study the emergence of the international sphere as a level of decision making. The purpose o… @plus_info https://calenda-formation.labocleo.org/320477
LOCATION:Paris
END:VEVENT
END:VCALENDAR
