BEGIN:VCALENDAR
VERSION:2.0
PRODID:-//https://calenda-formation.labocleo.org
X-WR-CALNAME:Calenda
X-WR-TIMEZONE:Europe/Paris
CALSCALE:GREGORIAN
X-WR-CALDESC:Le calendrier des lettres et sciences humaines et sociales
METHOD:PUBLISH
BEGIN:VEVENT
DTSTART;VALUE=DATE:20150329
DTEND;VALUE=DATE:20150330
UID:320543-20150329@calenda.revues.org
SUMMARY:Dialogue as Global Action: Interacting Voices and Visions across Cultures
URL:https://calenda-formation.labocleo.org/320543
DESCRIPTION:Ovidius University (Constanta\, Romania)\, a modern and vibrant research university on the Black Sea coast\, welcomes dialogue-oriented researchers and practitioners to be held on 25-26 September 2015 to the 3rd ESTIDIA Conference. The conference serves… Más informaciones https://calenda-formation.labocleo.org/320543
LOCATION:Constanza
END:VEVENT
END:VCALENDAR
