BEGIN:VCALENDAR
VERSION:2.0
PRODID:-//https://calenda-formation.labocleo.org
X-WR-CALNAME:Calenda
X-WR-TIMEZONE:Europe/Paris
CALSCALE:GREGORIAN
X-WR-CALDESC:Le calendrier des lettres et sciences humaines et sociales
METHOD:PUBLISH
BEGIN:VEVENT
DTSTART;VALUE=DATE:20150520
DTEND;VALUE=DATE:20150521
UID:320703-20150520@calenda.revues.org
SUMMARY:Paysages d'Orient et de Méditerranée
URL:https://calenda-formation.labocleo.org/320703
DESCRIPTION:Ce projet d’étude « Paysages d’Orient et de Méditerranée » est organisé sur cinq ateliers de travail. Il cherche à s’intéresser aux descriptions des lieux dans les discours géographiques de la littérature antique\, en se proposant de mettre en parallè… Más informaciones https://calenda-formation.labocleo.org/320703
LOCATION:Arras
END:VEVENT
BEGIN:VEVENT
DTSTART;VALUE=DATE:20151014
DTEND;VALUE=DATE:20151015
UID:320703-20151014@calenda.revues.org
SUMMARY:Paysages d'Orient et de Méditerranée
URL:https://calenda-formation.labocleo.org/320703
DESCRIPTION:Ce projet d’étude « Paysages d’Orient et de Méditerranée » est organisé sur cinq ateliers de travail. Il cherche à s’intéresser aux descriptions des lieux dans les discours géographiques de la littérature antique\, en se proposant de mettre en parallè… Más informaciones https://calenda-formation.labocleo.org/320703
LOCATION:Arras
END:VEVENT
END:VCALENDAR
