BEGIN:VCALENDAR
VERSION:2.0
PRODID:-//https://calenda-formation.labocleo.org
X-WR-CALNAME:Calenda
X-WR-TIMEZONE:Europe/Paris
CALSCALE:GREGORIAN
X-WR-CALDESC:Le calendrier des lettres et sciences humaines et sociales
METHOD:PUBLISH
BEGIN:VEVENT
DTSTART;VALUE=DATE:20150311
DTEND;VALUE=DATE:20150312
UID:321135-20150311@calenda.revues.org
SUMMARY:La guerre d'Espagne entre vide et trop-plein
URL:https://calenda-formation.labocleo.org/321135
DESCRIPTION:Par son déchaînement de bruit et de fureur\, la guerre d’Espagne a affecté les acteurs du conflit aussi bien que ses victimes et ses témoins\, entraînant l’intervention de puissances étrangères\, l’engagement d’intellectuels du monde entier et l’exode m… @plus_info https://calenda-formation.labocleo.org/321135
LOCATION:Champs-sur-Marne
END:VEVENT
BEGIN:VEVENT
DTSTART;VALUE=DATE:20150312
DTEND;VALUE=DATE:20150313
UID:321135-20150312@calenda.revues.org
SUMMARY:La guerre d'Espagne entre vide et trop-plein
URL:https://calenda-formation.labocleo.org/321135
DESCRIPTION:Par son déchaînement de bruit et de fureur\, la guerre d’Espagne a affecté les acteurs du conflit aussi bien que ses victimes et ses témoins\, entraînant l’intervention de puissances étrangères\, l’engagement d’intellectuels du monde entier et l’exode m… @plus_info https://calenda-formation.labocleo.org/321135
LOCATION:Champs-sur-Marne
END:VEVENT
BEGIN:VEVENT
DTSTART;VALUE=DATE:20150313
DTEND;VALUE=DATE:20150314
UID:321135-20150313@calenda.revues.org
SUMMARY:La guerre d'Espagne entre vide et trop-plein
URL:https://calenda-formation.labocleo.org/321135
DESCRIPTION:Par son déchaînement de bruit et de fureur\, la guerre d’Espagne a affecté les acteurs du conflit aussi bien que ses victimes et ses témoins\, entraînant l’intervention de puissances étrangères\, l’engagement d’intellectuels du monde entier et l’exode m… @plus_info https://calenda-formation.labocleo.org/321135
LOCATION:Champs-sur-Marne
END:VEVENT
END:VCALENDAR
