BEGIN:VCALENDAR
VERSION:2.0
PRODID:-//https://calenda-formation.labocleo.org
X-WR-CALNAME:Calenda
X-WR-TIMEZONE:Europe/Paris
CALSCALE:GREGORIAN
X-WR-CALDESC:Le calendrier des lettres et sciences humaines et sociales
METHOD:PUBLISH
BEGIN:VEVENT
DTSTART;VALUE=DATE:20150318
DTEND;VALUE=DATE:20150319
UID:321232-20150318@calenda.revues.org
SUMMARY:Remise du prix Marc de Montalembert 2015
URL:https://calenda-formation.labocleo.org/321232
DESCRIPTION:La remise du prix Marc de Montalembert 2015 sera effectuée par Philippe Morel\, professeur d’histoire d’art moderne et directeur du Centre d’histoire de l’art de la Renaissance à l’université Paris 1 Panthéon-Sorbonne\, membre senior de l’Institut univ… @plus_info https://calenda-formation.labocleo.org/321232
LOCATION:Paris
END:VEVENT
END:VCALENDAR
