BEGIN:VCALENDAR
VERSION:2.0
PRODID:-//https://calenda-formation.labocleo.org
X-WR-CALNAME:Calenda
X-WR-TIMEZONE:Europe/Paris
CALSCALE:GREGORIAN
X-WR-CALDESC:Le calendrier des lettres et sciences humaines et sociales
METHOD:PUBLISH
BEGIN:VEVENT
DTSTART;VALUE=DATE:20150330
DTEND;VALUE=DATE:20150331
UID:321252-20150330@calenda.revues.org
SUMMARY:Mouvements
URL:https://calenda-formation.labocleo.org/321252
DESCRIPTION:Au Moyen Âge\, le terme de mouvement renvoie le plus souvent aux déplacements des hommes\, que l’on songe aux croisés\, aux pèlerins ou aux artistes. Néanmoins\, se meuvent avec eux des objets\, quotidiens ou précieux\, socle des échanges entre différentes… @plus_info https://calenda-formation.labocleo.org/321252
LOCATION:Genève
END:VEVENT
END:VCALENDAR
