BEGIN:VCALENDAR
VERSION:2.0
PRODID:-//https://calenda-formation.labocleo.org
X-WR-CALNAME:Calenda
X-WR-TIMEZONE:Europe/Paris
CALSCALE:GREGORIAN
X-WR-CALDESC:Le calendrier des lettres et sciences humaines et sociales
METHOD:PUBLISH
BEGIN:VEVENT
DTSTART;VALUE=DATE:20150312
DTEND;VALUE=DATE:20150313
UID:321332-20150312@calenda.revues.org
SUMMARY:Communauté et commun entre Balkans et Méditerranée
URL:https://calenda-formation.labocleo.org/321332
DESCRIPTION:Cette journée d’études a pour objectif d’interroger la notion de communauté dans ses acceptions classiques (communautés ethnique\, confessionnelle\, linguistique)\, autant que d’explorer les manières contemporaines de faire et d’imaginer le « commun »\, … Weitere Informationen https://calenda-formation.labocleo.org/321332
LOCATION:Lyon
END:VEVENT
END:VCALENDAR
