BEGIN:VCALENDAR
VERSION:2.0
PRODID:-//https://calenda-formation.labocleo.org
X-WR-CALNAME:Calenda
X-WR-TIMEZONE:Europe/Paris
CALSCALE:GREGORIAN
X-WR-CALDESC:The calendar for arts, humanities and social sciences
METHOD:PUBLISH
BEGIN:VEVENT
DTSTART;VALUE=DATE:20150402
DTEND;VALUE=DATE:20150403
UID:321340-20150402@calenda.revues.org
SUMMARY:Les logiques du droit
URL:https://calenda-formation.labocleo.org/321340
DESCRIPTION:Ce colloque à vocation transdisciplinaire\, est ouvert aux historiens\, juristes\, politistes et sociologues. Attachée à une conception « réaliste » du fait juridique qui considère le droit comme un fait social et historique\, ce colloque est organisé au… @plus_info https://calenda-formation.labocleo.org/321340
LOCATION:Sceaux
END:VEVENT
BEGIN:VEVENT
DTSTART;VALUE=DATE:20150403
DTEND;VALUE=DATE:20150404
UID:321340-20150403@calenda.revues.org
SUMMARY:Les logiques du droit
URL:https://calenda-formation.labocleo.org/321340
DESCRIPTION:Ce colloque à vocation transdisciplinaire\, est ouvert aux historiens\, juristes\, politistes et sociologues. Attachée à une conception « réaliste » du fait juridique qui considère le droit comme un fait social et historique\, ce colloque est organisé au… @plus_info https://calenda-formation.labocleo.org/321340
LOCATION:Sceaux
END:VEVENT
END:VCALENDAR
