BEGIN:VCALENDAR
VERSION:2.0
PRODID:-//https://calenda-formation.labocleo.org
X-WR-CALNAME:Calenda
X-WR-TIMEZONE:Europe/Paris
CALSCALE:GREGORIAN
X-WR-CALDESC:Le calendrier des lettres et sciences humaines et sociales
METHOD:PUBLISH
BEGIN:VEVENT
DTSTART;VALUE=DATE:20150312
DTEND;VALUE=DATE:20150313
UID:321371-20150312@calenda.revues.org
SUMMARY:Pratiques musicales des Arméniens d'Istanbul aujourd’hui\, mémoire sensible et présence sonore
URL:https://calenda-formation.labocleo.org/321371
DESCRIPTION:Le colloque permettra la mise en commun et la confrontation des données et des résultats des chercheurs qui travaillent\, à l’international\, sur les pratiques musicales de la communauté historique arménienne d'Istanbul. L’objectif premier du projet es… Weitere Informationen https://calenda-formation.labocleo.org/321371
LOCATION:Saint-Étienne
END:VEVENT
BEGIN:VEVENT
DTSTART;VALUE=DATE:20150313
DTEND;VALUE=DATE:20150314
UID:321371-20150313@calenda.revues.org
SUMMARY:Pratiques musicales des Arméniens d'Istanbul aujourd’hui\, mémoire sensible et présence sonore
URL:https://calenda-formation.labocleo.org/321371
DESCRIPTION:Le colloque permettra la mise en commun et la confrontation des données et des résultats des chercheurs qui travaillent\, à l’international\, sur les pratiques musicales de la communauté historique arménienne d'Istanbul. L’objectif premier du projet es… Weitere Informationen https://calenda-formation.labocleo.org/321371
LOCATION:Saint-Étienne
END:VEVENT
END:VCALENDAR
