BEGIN:VCALENDAR
VERSION:2.0
PRODID:-//https://calenda-formation.labocleo.org
X-WR-CALNAME:Calenda
X-WR-TIMEZONE:Europe/Paris
CALSCALE:GREGORIAN
X-WR-CALDESC:Le calendrier des lettres et sciences humaines et sociales
METHOD:PUBLISH
BEGIN:VEVENT
DTSTART;VALUE=DATE:20150402
DTEND;VALUE=DATE:20150403
UID:321436-20150402@calenda.revues.org
SUMMARY:Humanités numériques
URL:https://calenda-formation.labocleo.org/321436
DESCRIPTION:L’édition 2015 des journées jeunes chercheurs\, rencontres annuelles organisées par Janua (association des étudiants en master et doctorat des laboratoires CESCM et HeRMA\, université de Poitiers)\, propose aux participants (intervenants comme auditeurs… @plus_info https://calenda-formation.labocleo.org/321436
LOCATION:
END:VEVENT
END:VCALENDAR
