BEGIN:VCALENDAR
VERSION:2.0
PRODID:-//https://calenda-formation.labocleo.org
X-WR-CALNAME:Calenda
X-WR-TIMEZONE:Europe/Paris
CALSCALE:GREGORIAN
X-WR-CALDESC:The calendar for arts, humanities and social sciences
METHOD:PUBLISH
BEGIN:VEVENT
DTSTART;VALUE=DATE:20150330
DTEND;VALUE=DATE:20150331
UID:321449-20150330@calenda.revues.org
SUMMARY:Fondements de l'éthique médiévale : Dieu\, l'homme et la nature
URL:https://calenda-formation.labocleo.org/321449
DESCRIPTION:La question des fondements de l’éthique médiévale se situe plus que toute autre à la croisée des chemins. Le terme de « fondements » peut en effet s’entendre dans une perspective historique\, au sein de laquelle l’historien de la philosophie s’attache… @plus_info https://calenda-formation.labocleo.org/321449
LOCATION:Paris
END:VEVENT
END:VCALENDAR
