BEGIN:VCALENDAR
VERSION:2.0
PRODID:-//https://calenda-formation.labocleo.org
X-WR-CALNAME:Calenda
X-WR-TIMEZONE:Europe/Paris
CALSCALE:GREGORIAN
X-WR-CALDESC:Le calendrier des lettres et sciences humaines et sociales
METHOD:PUBLISH
BEGIN:VEVENT
DTSTART;VALUE=DATE:20150320
DTEND;VALUE=DATE:20150321
UID:321764-20150320@calenda.revues.org
SUMMARY:Concepts et méthodes dans l'œuvre de Mirko D. Grmek (1924-2000)
URL:https://calenda-formation.labocleo.org/321764
DESCRIPTION:À la fois historien et philosophe des sciences biologiques et médicales\, Mirko D. Grmek (1924-2000) a laissé derrière lui une œuvre foisonnante mais encore peu connue. Spécialiste de la pensée de Claude Bernard et médecin de formation\, ses travaux d’… @plus_info https://calenda-formation.labocleo.org/321764
LOCATION:Montréal
END:VEVENT
END:VCALENDAR
