BEGIN:VCALENDAR
VERSION:2.0
PRODID:-//https://calenda-formation.labocleo.org
X-WR-CALNAME:Calenda
X-WR-TIMEZONE:Europe/Paris
CALSCALE:GREGORIAN
X-WR-CALDESC:Le calendrier des lettres et sciences humaines et sociales
METHOD:PUBLISH
BEGIN:VEVENT
DTSTART;VALUE=DATE:20150601
DTEND;VALUE=DATE:20150602
UID:321943-20150601@calenda.revues.org
SUMMARY:1940-1950 : guerre\, occupation et mutations sociales
URL:https://calenda-formation.labocleo.org/321943
DESCRIPTION:L'année 1945 est souvent perçue comme une césure profonde. Or\, cette vision occulte les continuités\, les traumatismes et les règlements de compte de l’après-guerre qui ne peuvent se comprendre que lorsqu’on appréhende la décennie comme un ensemble. C… Weitere Informationen https://calenda-formation.labocleo.org/321943
LOCATION:Dudelange
END:VEVENT
END:VCALENDAR
