BEGIN:VCALENDAR
VERSION:2.0
PRODID:-//https://calenda-formation.labocleo.org
X-WR-CALNAME:Calenda
X-WR-TIMEZONE:Europe/Paris
CALSCALE:GREGORIAN
X-WR-CALDESC:Le calendrier des lettres et sciences humaines et sociales
METHOD:PUBLISH
BEGIN:VEVENT
DTSTART;VALUE=DATE:20150430
DTEND;VALUE=DATE:20150501
UID:321972-20150430@calenda.revues.org
SUMMARY:Se réorienter dans la pensée
URL:https://calenda-formation.labocleo.org/321972
DESCRIPTION:Des Essais de Montaigne\, du Discours de la méthode de Descartes ou d’Ecce Homo de Friedrich Nietzsche jusqu’à Circonfession de Jacques Derrida ou Un ton pour la philosophie de Stanley Cavell\, quelques grands textes philosophiques s’offrent comme de m… Weitere Informationen https://calenda-formation.labocleo.org/321972
LOCATION:Paris
END:VEVENT
END:VCALENDAR
