BEGIN:VCALENDAR
VERSION:2.0
PRODID:-//https://calenda-formation.labocleo.org
X-WR-CALNAME:Calenda
X-WR-TIMEZONE:Europe/Paris
CALSCALE:GREGORIAN
X-WR-CALDESC:The calendar for arts, humanities and social sciences
METHOD:PUBLISH
BEGIN:VEVENT
DTSTART;VALUE=DATE:20150529
DTEND;VALUE=DATE:20150530
UID:322942-20150529@calenda.revues.org
SUMMARY:Transforming the Male Body
URL:https://calenda-formation.labocleo.org/322942
DESCRIPTION:This specific conference will focus on etched and engraved metal objects made in Europe between the 16th and 18th centuries\, which\, through their civil or military functions\, were made to adorn the male body -- portable weapons\, armour\, buckles\, watc… @plus_info https://calenda-formation.labocleo.org/322942
LOCATION:Paris
END:VEVENT
END:VCALENDAR
