BEGIN:VCALENDAR
VERSION:2.0
PRODID:-//https://calenda-formation.labocleo.org
X-WR-CALNAME:Calenda
X-WR-TIMEZONE:Europe/Paris
CALSCALE:GREGORIAN
X-WR-CALDESC:Le calendrier des lettres et sciences humaines et sociales
METHOD:PUBLISH
BEGIN:VEVENT
DTSTART;VALUE=DATE:20150423
DTEND;VALUE=DATE:20150424
UID:323067-20150423@calenda.revues.org
SUMMARY:Ignorance\, Nescience\, Nonknowledge
URL:https://calenda-formation.labocleo.org/323067
DESCRIPTION:The conference seeks to address how ignorance about phenomena in different epistemic fields of the late medieval and early modern world was recognized (or not)\, used and coped with\, differently from modern times. The Paris part is devoted to the hist… @plus_info https://calenda-formation.labocleo.org/323067
LOCATION:Paris
END:VEVENT
BEGIN:VEVENT
DTSTART;VALUE=DATE:20150424
DTEND;VALUE=DATE:20150425
UID:323067-20150424@calenda.revues.org
SUMMARY:Ignorance\, Nescience\, Nonknowledge
URL:https://calenda-formation.labocleo.org/323067
DESCRIPTION:The conference seeks to address how ignorance about phenomena in different epistemic fields of the late medieval and early modern world was recognized (or not)\, used and coped with\, differently from modern times. The Paris part is devoted to the hist… @plus_info https://calenda-formation.labocleo.org/323067
LOCATION:Paris
END:VEVENT
END:VCALENDAR
