BEGIN:VCALENDAR
VERSION:2.0
PRODID:-//https://calenda-formation.labocleo.org
X-WR-CALNAME:Calenda
X-WR-TIMEZONE:Europe/Paris
CALSCALE:GREGORIAN
X-WR-CALDESC:Le calendrier des lettres et sciences humaines et sociales
METHOD:PUBLISH
BEGIN:VEVENT
DTSTART;VALUE=DATE:20150430
DTEND;VALUE=DATE:20150501
UID:323227-20150430@calenda.revues.org
SUMMARY:Avant que la « magie » n'opère
URL:https://calenda-formation.labocleo.org/323227
DESCRIPTION:Mieux connue sous l'angle des arts « premiers » ou de la création contemporaine\, l'histoire des arts en Afrique comporte encore de vastes pans oubliés\, en particulier en ce qui concerne l'époque moderne. L'exposition Les Magiciens de la Terre est com… @plus_info https://calenda-formation.labocleo.org/323227
LOCATION:Paris
END:VEVENT
END:VCALENDAR
