BEGIN:VCALENDAR
VERSION:2.0
PRODID:-//https://calenda-formation.labocleo.org
X-WR-CALNAME:Calenda
X-WR-TIMEZONE:Europe/Paris
CALSCALE:GREGORIAN
X-WR-CALDESC:Le calendrier des lettres et sciences humaines et sociales
METHOD:PUBLISH
BEGIN:VEVENT
DTSTART;VALUE=DATE:20150416
DTEND;VALUE=DATE:20150417
UID:323409-20150416@calenda.revues.org
SUMMARY:Le Corbusier : l’œuvre à l'épreuve de sa restauration
URL:https://calenda-formation.labocleo.org/323409
DESCRIPTION:L'Institut national d'histoire de l'art et la Cité de l'architecture et du patrimoine accueilleront du 16 au 18 avril la XXe rencontre de la Fondation Le Corbusier. Trois journées de conférences\, tables-rondes\, d'études de cas et de visites de chanti… Más informaciones https://calenda-formation.labocleo.org/323409
LOCATION:París
END:VEVENT
BEGIN:VEVENT
DTSTART;VALUE=DATE:20150417
DTEND;VALUE=DATE:20150418
UID:323409-20150417@calenda.revues.org
SUMMARY:Le Corbusier : l’œuvre à l'épreuve de sa restauration
URL:https://calenda-formation.labocleo.org/323409
DESCRIPTION:L'Institut national d'histoire de l'art et la Cité de l'architecture et du patrimoine accueilleront du 16 au 18 avril la XXe rencontre de la Fondation Le Corbusier. Trois journées de conférences\, tables-rondes\, d'études de cas et de visites de chanti… Más informaciones https://calenda-formation.labocleo.org/323409
LOCATION:París
END:VEVENT
BEGIN:VEVENT
DTSTART;VALUE=DATE:20150418
DTEND;VALUE=DATE:20150419
UID:323409-20150418@calenda.revues.org
SUMMARY:Le Corbusier : l’œuvre à l'épreuve de sa restauration
URL:https://calenda-formation.labocleo.org/323409
DESCRIPTION:L'Institut national d'histoire de l'art et la Cité de l'architecture et du patrimoine accueilleront du 16 au 18 avril la XXe rencontre de la Fondation Le Corbusier. Trois journées de conférences\, tables-rondes\, d'études de cas et de visites de chanti… Más informaciones https://calenda-formation.labocleo.org/323409
LOCATION:París
END:VEVENT
END:VCALENDAR
