BEGIN:VCALENDAR
VERSION:2.0
PRODID:-//https://calenda-formation.labocleo.org
X-WR-CALNAME:Calenda
X-WR-TIMEZONE:Europe/Paris
CALSCALE:GREGORIAN
X-WR-CALDESC:Le calendrier des lettres et sciences humaines et sociales
METHOD:PUBLISH
BEGIN:VEVENT
DTSTART;VALUE=DATE:20150330
DTEND;VALUE=DATE:20150331
UID:323418-20150330@calenda.revues.org
SUMMARY:Entre dissolution et réinvention de l’image : enquête sur la place de l’allégorie dans l’art contemporain et les « visual studies »
URL:https://calenda-formation.labocleo.org/323418
DESCRIPTION:Dans son article « The Allegorical Impulse toward a Theory of Postmodernism » publié dans la revue October en 1980\, Craig Owens\, théoricien et critique d’art\, observait dans les pratiques artistiques et théoriques un retour de l’allégorie\, qu’il redé… @plus_info https://calenda-formation.labocleo.org/323418
LOCATION:Sélestat
END:VEVENT
END:VCALENDAR
